BEGIN:VCALENDAR
VERSION:2.0
PRODID:-//wp-events-plugin.com//7.2.3.1//EN
TZID:Europe/Amsterdam
X-WR-TIMEZONE:Europe/Amsterdam
BEGIN:VEVENT
UID:20@zenroom.org
DTSTART;TZID=Europe/Copenhagen:20220728T220000
DTEND;TZID=Europe/Copenhagen:20220728T223000
DTSTAMP:20220727T100532Z
URL:https://zenroom.org/events/zenroom-intro-28-07-22/
SUMMARY:Zenroom Intro (28.07.22\, 22:00 GMT+2)
DESCRIPTION:- Zenroom basics\n- Navigating the manual and the scripts\n- Ze
 ncode: smart contracts in natural language\n- apiroom.net and Zenroom CLI\
 n\nJoin us at: https://zoom.us/j/3144293455?pwd=OGxNVXFuSmJoYTFoSEVocnhwWW
 1ZQT09
CATEGORIES:SSI-Credentials
END:VEVENT
BEGIN:VTIMEZONE
TZID:Europe/Copenhagen
X-LIC-LOCATION:Europe/Copenhagen
BEGIN:DAYLIGHT
DTSTART:20220327T030000
TZOFFSETFROM:+0100
TZOFFSETTO:+0200
TZNAME:CEST
END:DAYLIGHT
END:VTIMEZONE
END:VCALENDAR